BEGIN:VCALENDAR
VERSION:2.0
PRODID:-//Tukios.com/
BEGIN:VEVENT
UID:9d30a7b1-2318-4e7e-b825-2e29393fe1f7@www.ithfuneral.com
DTSTAMP:20260420T190119Z
DTSTART:20260422T173000Z
DTEND:20260422T183000Z
SUMMARY:Burial
DESCRIPTION:Arrive at Georgia National at 1:30 p.m.  Past the gates there 
	is a building to the right where you line your cars up based on the lane 
	assigned to the Veteran.
URL:https://www.ithfuneral.com/obituaries/gary-powell
LOCATION: 1080 Scott Hudgens Dr  Canton GA 30114
GEO:34.23423;-84.5757167
END:VEVENT
END:VCALENDAR