BEGIN:VCALENDAR
VERSION:2.0
PRODID:-//Tukios.com/
BEGIN:VEVENT
UID:7a69b418-8b14-4ace-9087-90ea98dadb64@www.ithfuneral.com
DTSTAMP:20260421T183948Z
DTSTART:20260429T180000Z
DTEND:20260429T190000Z
SUMMARY:Memorial Service
DESCRIPTION:
URL:https://www.ithfuneral.com/obituaries/lynn-mahovsky
LOCATION:Faith Presbyterian Church 1349 Blue Bird Road  Mineral Bluff  
	30559
GEO:34.8944481;-84.2564765
END:VEVENT
END:VCALENDAR