BEGIN:VCALENDAR
VERSION:2.0
PRODID:-//Tukios.com/
BEGIN:VEVENT
UID:2ad0a6ed-2160-4daa-b5df-2f12d344f790@www.ithfuneral.com
DTSTAMP:20260420T224141Z
DTSTART:20260430T180000Z
DTEND:20260430T220000Z
SUMMARY:Visitation
DESCRIPTION:
URL:https://www.ithfuneral.com/obituaries/sally-boffa
LOCATION: 2764 US-411  Fairmount GA 30139
GEO:34.4333037;-84.7003533
END:VEVENT
END:VCALENDAR