BEGIN:VCALENDAR
VERSION:2.0
PRODID:-//Tukios.com/
BEGIN:VEVENT
UID:7241aa03-ff4b-485b-bb00-488c7bfcbfba@www.ithfuneral.com
DTSTAMP:20260420T224130Z
DTSTART:20260430T183000Z
DTEND:20260430T193000Z
SUMMARY:Memorial Service
DESCRIPTION:
URL:https://www.ithfuneral.com/obituaries/sally-boffa
LOCATION: 2764 US-411  Fairmount GA 30139
GEO:34.4333037;-84.7003533
END:VEVENT
END:VCALENDAR